BEGIN:VCALENDAR
VERSION:2.0
PRODID:-//DvadesetJedan - ECPv6.15.11//NONSGML v1.0//EN
CALSCALE:GREGORIAN
METHOD:PUBLISH
X-ORIGINAL-URL:https://dvadesetjedan.com
X-WR-CALDESC:Events for DvadesetJedan
REFRESH-INTERVAL;VALUE=DURATION:PT1H
X-Robots-Tag:noindex
X-PUBLISHED-TTL:PT1H
BEGIN:VTIMEZONE
TZID:Europe/Zagreb
BEGIN:DAYLIGHT
TZOFFSETFROM:+0100
TZOFFSETTO:+0200
TZNAME:CEST
DTSTART:20240331T010000
END:DAYLIGHT
BEGIN:STANDARD
TZOFFSETFROM:+0200
TZOFFSETTO:+0100
TZNAME:CET
DTSTART:20241027T010000
END:STANDARD
BEGIN:DAYLIGHT
TZOFFSETFROM:+0100
TZOFFSETTO:+0200
TZNAME:CEST
DTSTART:20250330T010000
END:DAYLIGHT
BEGIN:STANDARD
TZOFFSETFROM:+0200
TZOFFSETTO:+0100
TZNAME:CET
DTSTART:20251026T010000
END:STANDARD
BEGIN:DAYLIGHT
TZOFFSETFROM:+0100
TZOFFSETTO:+0200
TZNAME:CEST
DTSTART:20260329T010000
END:DAYLIGHT
BEGIN:STANDARD
TZOFFSETFROM:+0200
TZOFFSETTO:+0100
TZNAME:CET
DTSTART:20261025T010000
END:STANDARD
END:VTIMEZONE
BEGIN:VEVENT
DTSTART;VALUE=DATE:20250815
DTEND;VALUE=DATE:20250816
DTSTAMP:20260422T134406
CREATED:20250621T135639Z
LAST-MODIFIED:20250729T084358Z
UID:83-1755216000-1755302399@dvadesetjedan.com
SUMMARY:Meetup Rab
DESCRIPTION:Bitcoin meetup na Rabu – u organizaciji DvadesetJedan i Bull Bitcoin \nPozivamo sve bitcoinere na neformalno druženje na otoku Rabu! Dio ekipe stiže već 13. kolovoza i ostaje do 15. kolovoza – planiramo kupanje\, druženje\, možda ribolov\, kajak… sve ovisi o vremenu i raspoloženju. Pridruži se kad možeš i koliko možeš. \nGlavni meetup održat će se 14.8. u 19:30 u restoranu Santa Maria\, u starom gradu Rabu (adresa: Dinka Dokule 6). Lokaciju i detalje još ćemo potvrditi unutar grupe ukoliko se promijeni. \nVidimo se na moru – u opuštenoj atmosferi i uz dobar razgovor o Bitcoinu! 🌊🍻⚡ \nTelegram grupa za koordinaciju: https://t.me/+EFNsWuB8lV1mODlk \nBitcoin Meetup on Rab – hosted by DvadesetJedan and Bull Bitcoin\nWe’re inviting all Bitcoiners to an informal gathering on the island of Rab! Some of us will be arriving as early as August 13th and staying until the 15th – we’re planning to swim\, hang out\, maybe go fishing or kayaking… we’ll see how things unfold depending on the weather and the vibe. Join us whenever and for however long you can. \nThe main meetup will take place on August 14th at 7:30 PM at Restaurant Santa Maria\, located in the old town of Rab (Dinka Dokule 6). We’ll confirm the exact location and details in the group if anything changes. \nSee you by the sea – for relaxed vibes and solid Bitcoin talk! 🌊🍻⚡ \nTelegram coordination group: https://t.me/+EFNsWuB8lV1mODlk
URL:https://dvadesetjedan.com/event/meetup-rab/
LOCATION:Žal Beach Bar\, Frkanj\, Rab\, 51280\, Croatia (Local Name: Hrvatska)
ATTACH;FMTTYPE=image/avif:https://dvadesetjedan.com/wp-content/uploads/2025/06/highres_529317720.avif
ORGANIZER;CN="DvadesetJedan":MAILTO:dvadesetjedanpodcast@gmail.com
END:VEVENT
END:VCALENDAR